BEGIN:VCALENDAR
VERSION:2.0
PRODID:-//wp-events-plugin.com//7.2.3.1//EN
TZID:Europe/Paris
X-WR-TIMEZONE:Europe/Paris
BEGIN:VEVENT
UID:15@atlaz.bzh
DTSTART;TZID=Europe/Paris:20200612T110000
DTEND;TZID=Europe/Paris:20200612T123000
DTSTAMP:20200528T075633Z
URL:https://atlaz.bzh/events/webinar-visioconference-sur-la-construction-b
 as-carbone/
SUMMARY:Webinar/Visioconférence sur la Construction Bas Carbone
DESCRIPTION:La stratégie nationale bas carbone (SNBC) prévoit pour la fil
 ière construction et immobilier de diviser par deux d'ici 2030 la product
 ion de gaz à effets de serre. La future réglementation RE 2020 prévoit 
 un volet de prise en cause de l'impact carbone de nos ouvrages en plus de 
 la question énergétique à proprement parler. Dans quelle mesure la stra
 tégie nationale bas carbone est-elle transposable aux projets de construc
 tion ? Sur quels paramètres faut-il agir pour obtenir les résultats les 
 plus impactants ?\nLe dérèglement climatique est déjà en cours\, et no
 s bâtiments existants comme neufs\, les aménagements extérieurs et l'é
 conomie de l'immobilier participent aux tiers de nos émissions de gaz à 
 effet de serre. La filière engage une grande mutation pour atténuer le d
 érèglement et s'adapter d'ores et déjà à ses conséquences. Quels son
 t les objectifs d'atténuation\, et quels sont les risques auxquels s'adap
 ter ? Quelles sont les pistes de solutions ? Comment préparer nos ouvrage
 s à être plus résilients ?\n
ATTACH;FMTTYPE=image/jpeg:https://atlaz.bzh/wp-content/uploads/2020/05/web
 inar-construction.jpg
END:VEVENT
BEGIN:VTIMEZONE
TZID:Europe/Paris
X-LIC-LOCATION:Europe/Paris
BEGIN:DAYLIGHT
DTSTART:20200329T030000
TZOFFSETFROM:+0100
TZOFFSETTO:+0200
TZNAME:CEST
END:DAYLIGHT
END:VTIMEZONE
END:VCALENDAR