BEGIN:VCALENDAR
VERSION:2.0
PRODID:-//wp-events-plugin.com//7.2.3.1//EN
TZID:Europe/Paris
X-WR-TIMEZONE:Europe/Paris
BEGIN:VEVENT
UID:16@atlaz.bzh
DTSTART;TZID=Europe/Paris:20210118T090000
DTEND;TZID=Europe/Paris:20210118T120000
DTSTAMP:20210112T075516Z
URL:https://atlaz.bzh/events/seminaire-technique-methanisation-etat-des-li
 eux-et-nouvelles-opportunites/
SUMMARY:Séminaire technique Méthanisation : état des lieux et nouvelles 
 opportunités
DESCRIPTION:Les nouveaux tarifs d’injection\, état des lieux et conséqu
 ences sur les projets\n\nLes nouvelles possibilités d’injection en Bret
 agne et Pays de la Loire grâce aux droits à l’injection\n\nLes pistes 
 d’optimisation des projets afin de conserver des rentabilités acceptabl
 es :\n\n&gt\; Les biodéchets\, un potentiel à venir\n\n&gt\; Du laborato
 ire aux démonstrateurs\n\n&gt\; Optimiser l’exploitation\, retours d’
 expériences
ATTACH;FMTTYPE=image/jpeg:https://atlaz.bzh/wp-content/uploads/2021/01/b2e
 .jpg
END:VEVENT
BEGIN:VTIMEZONE
TZID:Europe/Paris
X-LIC-LOCATION:Europe/Paris
BEGIN:STANDARD
DTSTART:20201025T020000
TZOFFSETFROM:+0200
TZOFFSETTO:+0100
TZNAME:CET
END:STANDARD
END:VTIMEZONE
END:VCALENDAR